BEGIN:VCALENDAR
VERSION:2.0
PRODID:EVENTFROG//EVENT//ICAL
BEGIN:VEVENT
UID:20260422T112746Z-7451703640253812198@eventfrog.de
DTSTAMP:20260422T112746Z
DTSTART:20260425T170000Z
DTEND:20260425T210000Z
SUMMARY:Yoto Concerts x Beatentourage
DESCRIPTION:Beatentourage bietet Deutschrap mit Limid & Drumtomski, Kaiko & Nackenschmerz, Amy Crimehouse & Uno F am Yoto in Hamburg, Einlass 18 Uhr.\n\nhttps://eventfrog.de/de/p/konzerte/hip-hop-rap/yoto-concerts-x-beatentourage-7451703640253812198.html
LOCATION:Yoto
GEO:53.562347;9.961065
URL:https://eventfrog.de/de/p/konzerte/hip-hop-rap/yoto-concerts-x-beatentourage-7451703640253812198.html
END:VEVENT
END:VCALENDAR