BEGIN:VCALENDAR
VERSION:2.0
PRODID:EVENTFROG//EVENT//ICAL
BEGIN:VEVENT
UID:20260420T065512Z-7451735621393978503@eventfrog.de
DTSTAMP:20260420T065512Z
DTSTART:20260424T160000Z
DTEND:20260424T180000Z
SUMMARY:Blattgold & Blütenzauber - Veganes Wohlfühldinner
DESCRIPTION:Event: Blattgold & Blütenzauber\nOrt: GENUSS:RAUM Rosenheim\nDatum: Freitag, 24.04.2026\nUhrzeit: 18:00–20:00 Uhr\nPreis: 49  pro Person\nInklusive: veganes 5-Gänge-Menü, Tafelwasser & 1 Glas Wein\n\nhttps://eventfrog.de/de/p/essen-trinken/blattgold-bluetenzauber-veganes-wohlfuehldinner-7451735621393978503.html
LOCATION:GENUSS:RAUM - Das Konzept-Café in Rosenheim
GEO:47.854570;12.124126
URL:https://eventfrog.de/de/p/essen-trinken/blattgold-bluetenzauber-veganes-wohlfuehldinner-7451735621393978503.html
END:VEVENT
END:VCALENDAR