BEGIN:VCALENDAR
VERSION:2.0
PRODID:EVENTFROG//EVENT//ICAL
BEGIN:VEVENT
UID:20260421T130806Z-7451758330857450773@eventfrog.de
DTSTAMP:20260421T130806Z
DTSTART:20260531T180000Z
DTEND:20260531T200000Z
SUMMARY:Duo Shan-Chi Hsu/Alexander Schimpf
DESCRIPTION:Shan-Chi Hsu und Alexander Schimpf spielen am 31. Mai um 20 Uhr zeitgenössische Klaviermusik in der Alten Fechthalle.\n\nhttps://eventfrog.de/de/p/klassik-opern/klassik/duo-shan-chi-hsu-alexander-schimpf-7451758330857450773.html
LOCATION:Alte Fechthalle
GEO:51.533570;9.927990
URL:https://eventfrog.de/de/p/klassik-opern/klassik/duo-shan-chi-hsu-alexander-schimpf-7451758330857450773.html
END:VEVENT
END:VCALENDAR