BEGIN:VCALENDAR
VERSION:2.0
PRODID:EVENTFROG//EVENT//ICAL
BEGIN:VEVENT
UID:20260422T013153Z-7451882882186872073@eventfrog.de
DTSTAMP:20260422T013153Z
DTSTART:20260613T080000Z
SUMMARY:Fachvortrag & Workshops zum Thema Lippen-Kiefer-Gaumenspalte
DESCRIPTION:"LKGS Schweiz – gemeinsam stark" lädt herzlich zu einem Fachvortrag mit ergänzenden Workshops und einem interaktiven Referat rund um das Thema Lippen-Kiefer-Gaumen-Spalten ein.\n\nhttps://eventfrog.de/de/p/fuehrungen-vortraege/vortrag/fachvortrag-workshops-zum-thema-lippen-kiefer-gaumenspalte-7451882882186872073.html
LOCATION:Reformierte Kirche Rümlang
GEO:47.451268;8.532609
URL:https://eventfrog.de/de/p/fuehrungen-vortraege/vortrag/fachvortrag-workshops-zum-thema-lippen-kiefer-gaumenspalte-7451882882186872073.html
END:VEVENT
END:VCALENDAR