BEGIN:VCALENDAR
VERSION:2.0
PRODID:EVENTFROG//EVENT//ICAL
BEGIN:VEVENT
UID:20260424T094159Z-7451905683442659691@eventfrog.de
DTSTAMP:20260424T094159Z
DTSTART:20260716T080000Z
DTEND:20260716T093000Z
SUMMARY:Open Lab Day Lernlabor Cybersicherheit – Faktor Mensch​​
DESCRIPTION:Cybersicherheit beginnt beim Menschen\n\nhttps://eventfrog.de/de/p/wissenschaft-und-technik/open-lab-day-lernlabor-cybersicherheit-faktor-mensch-7451905683442659691.html
LOCATION:Open Lab Day - Erlebniswelt​​​
GEO:49.150132;9.216151
URL:https://eventfrog.de/de/p/wissenschaft-und-technik/open-lab-day-lernlabor-cybersicherheit-faktor-mensch-7451905683442659691.html
END:VEVENT
END:VCALENDAR