BEGIN:VCALENDAR
VERSION:2.0
PRODID:EVENTFROG//EVENT//ICAL
BEGIN:VEVENT
UID:20260423T033221Z-7451908188390055840@eventfrog.de
DTSTAMP:20260423T033221Z
DTSTART:20270112T190000Z
SUMMARY:Best of Musicals
DESCRIPTION:Am 12.01.2027 bringt Best of Musicals mit neuem Programm die Dreiländerhalle Passau zum Leuchten. Große Hits, starke Stimmen und Mitmachmomente sorgen für einen unvergesslichen Abend.\n\nhttps://eventfrog.de/de/p/musicals-shows/musical/best-of-musicals-7451908188390055840.html
LOCATION:Best of Musicals Passau
GEO:48.557261;13.414891
URL:https://eventfrog.de/de/p/musicals-shows/musical/best-of-musicals-7451908188390055840.html
END:VEVENT
END:VCALENDAR