BEGIN:VCALENDAR
VERSION:2.0
PRODID:EVENTFROG//EVENT//ICAL
BEGIN:VEVENT
UID:20260422T181524Z-7451942327415744908@eventfrog.de
DTSTAMP:20260422T181524Z
DTSTART:20260509T200000Z
SUMMARY:Just Rap – 90s Hip-Hop Party
DESCRIPTION:Bei Just Rap dreht sich alles um den Sound der 90er – roh, direkt und bis heute unerreicht. \n\nhttps://eventfrog.de/de/p/partys/hip-hop-rap/just-rap-90s-hip-hop-party-7451942327415744908.html
LOCATION:Haus der Offiziere
GEO:52.412465;12.539366
URL:https://eventfrog.de/de/p/partys/hip-hop-rap/just-rap-90s-hip-hop-party-7451942327415744908.html
END:VEVENT
END:VCALENDAR