BEGIN:VCALENDAR
VERSION:2.0
PRODID:EVENTFROG//EVENT//ICAL
BEGIN:VEVENT
UID:20260422T194014Z-7451957476621027953@eventfrog.de
DTSTAMP:20260422T194014Z
DTSTART:20260620T070000Z
DTEND:20260622T150000Z
SUMMARY:Postnatal Yoga - 25h-Yoga-Weiterbildung
DESCRIPTION:25-stündige Postnatal Yoga Weiterbildung vom 20. bis 22. Juni 2026 stärkt Mütter nach der Geburt körperlich und geistig.\n\nhttps://eventfrog.de/de/p/sport-fitness/yoga/postnatal-yoga-25h-yoga-weiterbildung-7451957476621027953.html
LOCATION:Yoga Labor Berlin
GEO:52.462984;13.509339
URL:https://eventfrog.de/de/p/sport-fitness/yoga/postnatal-yoga-25h-yoga-weiterbildung-7451957476621027953.html
END:VEVENT
END:VCALENDAR