BEGIN:VCALENDAR
VERSION:2.0
PRODID:EVENTFROG//EVENT//ICAL
BEGIN:VEVENT
UID:20260424T103659Z-7451982438392188463@eventfrog.de
DTSTAMP:20260424T103659Z
DTSTART:20260508T150000Z
DTEND:20260508T160000Z
SUMMARY:Fitboxing Basics
DESCRIPTION:Fitboxing ist ein intensives Ganzkörperworkout mit Elementen aus dem Kickboxen.\n\nhttps://eventfrog.de/de/p/sport-fitness/kampfsport/fitboxing-basics-7451982438392188463.html
LOCATION:Marienthaler Str. 137
GEO:50.718820;12.453851
URL:https://eventfrog.de/de/p/sport-fitness/kampfsport/fitboxing-basics-7451982438392188463.html
END:VEVENT
END:VCALENDAR