BEGIN:VCALENDAR
VERSION:2.0
PRODID:EVENTFROG//EVENT//ICAL
BEGIN:VEVENT
UID:20260422T224531Z-7452259802212743212@eventfrog.de
DTSTAMP:20260422T224531Z
DTSTART:20260528T100000Z
DTEND:20260528T104500Z
SUMMARY:Guidenetzwerk Deutschland: Blinde Sportler und Begleiter
DESCRIPTION:Der Vortrag zeigt, wie blinde Sportler über das Guidenetzwerk kostenlos und selbstständig ihre Begleitperson finden und kontaktieren.\n\nhttps://eventfrog.de/de/p/fuehrungen-vortraege/vortrag/guidenetzwerk-deutschland-blinde-sportler-und-begleiter-7452259802212743212.html
LOCATION:Kap Europa, Frankfurt am Main, DE, auf der der Sport & Musik Bühne
GEO:50.109966;8.653981
URL:https://eventfrog.de/de/p/fuehrungen-vortraege/vortrag/guidenetzwerk-deutschland-blinde-sportler-und-begleiter-7452259802212743212.html
END:VEVENT
END:VCALENDAR