BEGIN:VCALENDAR
VERSION:2.0
PRODID:EVENTFROG//EVENT//ICAL
BEGIN:VEVENT
UID:20260422T194019Z-7452260944393024836@eventfrog.de
DTSTAMP:20260422T194019Z
DTSTART:20261114T080000Z
DTEND:20261116T160000Z
SUMMARY:Silveryoga - 25h-Yoga-Weiterbildung
DESCRIPTION:25-stündige Weiterbildung vermittelt, wie Yogalehrende Silveryoga für ältere Menschen sicher und achtsam unterrichten.\n\nhttps://eventfrog.de/de/p/sport-fitness/yoga/silveryoga-25h-yoga-weiterbildung-7452260944393024836.html
LOCATION:Yoga Labor Berlin
GEO:52.462984;13.509339
URL:https://eventfrog.de/de/p/sport-fitness/yoga/silveryoga-25h-yoga-weiterbildung-7452260944393024836.html
END:VEVENT
END:VCALENDAR