BEGIN:VCALENDAR
VERSION:2.0
PRODID:EVENTFROG//EVENT//ICAL
BEGIN:VEVENT
UID:20260424T080343Z-7452264633350537883@eventfrog.de
DTSTAMP:20260424T080343Z
DTSTART:20260918T180000Z
DTEND:20260918T200000Z
SUMMARY:Matthias Heiligensetzer - The Piano Rock-A-Boogie Show!
DESCRIPTION:Matthias Heiligensetzer begeistert mit Solo-Boogie-Konzert im Museumssaal Überlingen mit energiegeladenen Boogie Woogies.\n\nhttps://eventfrog.de/de/p/konzerte/jazz-blues/matthias-heiligensetzer-the-piano-rock-a-boogie-show-7452264633350537883.html
LOCATION:Museumssaal
GEO:47.767661;9.163409
URL:https://eventfrog.de/de/p/konzerte/jazz-blues/matthias-heiligensetzer-the-piano-rock-a-boogie-show-7452264633350537883.html
END:VEVENT
END:VCALENDAR