BEGIN:VCALENDAR
VERSION:2.0
PRODID:EVENTFROG//EVENT//ICAL
BEGIN:VEVENT
UID:20260422T193908Z-7452277612943001475@eventfrog.de
DTSTAMP:20260422T193908Z
DTSTART:20270410T070000Z
DTEND:20270412T150000Z
SUMMARY:Pranayama - 25h-Yoga-Weiterbildung
DESCRIPTION:Fortbildung für Yogalehrende von 3. bis 5. Mai 2026 zur Vertiefung fortgeschrittener Pranayama-Techniken im Unterricht.\n\nhttps://eventfrog.de/de/p/sport-fitness/yoga/pranayama-25h-yoga-weiterbildung-7452277612943001475.html
LOCATION:Yoga Labor Berlin
GEO:52.462984;13.509339
URL:https://eventfrog.de/de/p/sport-fitness/yoga/pranayama-25h-yoga-weiterbildung-7452277612943001475.html
END:VEVENT
END:VCALENDAR