BEGIN:VCALENDAR
VERSION:2.0
PRODID:EVENTFROG//EVENT//ICAL
BEGIN:VEVENT
UID:20260424T014016Z-7452279401113249393@eventfrog.de
DTSTAMP:20260424T014016Z
DTSTART:20260424T170000Z
SUMMARY:Gemeinschaftsbild-Zukunftsvision
DESCRIPTION:Offener Mitmachabend für alle – ohne Vorkenntnisse, einfach dazukommen und Teil eines großen Gemeinschaftsbildes werden\n\nhttps://eventfrog.de/de/p/kurse-seminare/freizeit-hobby/gemeinschaftsbild-zukunftsvision-7452279401113249393.html
LOCATION:Galerie Jahnaischer Hof
GEO:51.164744;13.468951
URL:https://eventfrog.de/de/p/kurse-seminare/freizeit-hobby/gemeinschaftsbild-zukunftsvision-7452279401113249393.html
END:VEVENT
END:VCALENDAR