BEGIN:VCALENDAR
VERSION:2.0
PRODID:EVENTFROG//EVENT//ICAL
BEGIN:VEVENT
UID:20260425T152522Z-7452313645109747615@eventfrog.de
DTSTAMP:20260425T152522Z
DTSTART:20261107T180000Z
SUMMARY:HAGIOS Mitsingkonzert mit Helge Burggrabe
DESCRIPTION: Den inneren Frieden stärken, um sich für den äußeren Frieden zu engagieren, dazu lädt das HAGIOS Mitsingkonzert am 7.9.2026 um 19.00 Uhr in die Johanniskirche in Berlin-Schlachtensee ein.\n\nhttps://eventfrog.de/de/p/konzerte/a-cappella-vocal/hagios-mitsingkonzert-mit-helge-burggrabe-7452313645109747615.html
LOCATION:Ev. Johanneskirche Schlachtensee
GEO:52.437917;13.218954
URL:https://eventfrog.de/de/p/konzerte/a-cappella-vocal/hagios-mitsingkonzert-mit-helge-burggrabe-7452313645109747615.html
END:VEVENT
END:VCALENDAR