BEGIN:VCALENDAR
VERSION:2.0
PRODID:EVENTFROG//EVENT//ICAL
BEGIN:VEVENT
UID:20260424T102951Z-7452333007434731715@eventfrog.de
DTSTAMP:20260424T102951Z
DTSTART:20260725T130000Z
DTEND:20260725T143000Z
SUMMARY:Stadtspaziergang Andernach
DESCRIPTION:Gästeführung durch das historische Andernach\n\nhttps://eventfrog.de/de/p/fuehrungen-vortraege/stadtfuehrung/stadtspaziergang-andernach-7452333007434731715.html
LOCATION:Tourist-Information Andernach
GEO:50.439492;7.400656
URL:https://eventfrog.de/de/p/fuehrungen-vortraege/stadtfuehrung/stadtspaziergang-andernach-7452333007434731715.html
END:VEVENT
END:VCALENDAR