BEGIN:VCALENDAR
VERSION:2.0
PRODID:EVENTFROG//EVENT//ICAL
BEGIN:VEVENT
UID:20260422T203211Z-7452350700628002997@eventfrog.de
DTSTAMP:20260422T203211Z
DTSTART:20260520T130000Z
DTEND:20260520T150000Z
SUMMARY:Tauschbörse für Kindergartenkinder in Urdorf
DESCRIPTION:Der Elternrat Kindergarten lädt dich ganz herzlich zur Tauschbörse ein! Und es gibt leckere Kuchen und Sirup dazu!\n\nhttps://eventfrog.de/de/p/kinderveranstaltungen/familienveranstaltungen/tauschboerse-fuer-kindergartenkinder-in-urdorf-7452350700628002997.html
LOCATION:Familienzentrum Urdorf
GEO:47.387691;8.425611
URL:https://eventfrog.de/de/p/kinderveranstaltungen/familienveranstaltungen/tauschboerse-fuer-kindergartenkinder-in-urdorf-7452350700628002997.html
END:VEVENT
END:VCALENDAR