BEGIN:VCALENDAR
VERSION:2.0
PRODID:EVENTFROG//EVENT//ICAL
BEGIN:VEVENT
UID:20260423T020148Z-7452388925300068734@eventfrog.de
DTSTAMP:20260423T020148Z
DTSTART:20260430T170000Z
DTEND:20260430T200000Z
SUMMARY:Sound:Bar ZiMMT Listening Sessions
DESCRIPTION:The Sound:Bar invites you to socialize and linger.\n\nhttps://eventfrog.de/de/p/konzerte/indie-alternative/sound-bar-zimmt-listening-sessions-7452388925300068734.html
LOCATION:ZiMMT
GEO:51.348029;12.420404
URL:https://eventfrog.de/de/p/konzerte/indie-alternative/sound-bar-zimmt-listening-sessions-7452388925300068734.html
END:VEVENT
END:VCALENDAR