BEGIN:VCALENDAR
VERSION:2.0
PRODID:EVENTFROG//EVENT//ICAL
BEGIN:VEVENT
UID:20260423T020046Z-7452390692721044091@eventfrog.de
DTSTAMP:20260423T020046Z
DTSTART:20260608T150000Z
DTEND:20260608T190000Z
SUMMARY:AV-Labor
DESCRIPTION:Diesmal: AI Model Building with LoRAs & Local LLMs mit Portrait XO\n\nhttps://eventfrog.de/de/p/kurse-seminare/computer-edv/av-labor-7452390692721044091.html
LOCATION:ZiMMT
GEO:51.348029;12.420404
URL:https://eventfrog.de/de/p/kurse-seminare/computer-edv/av-labor-7452390692721044091.html
END:VEVENT
END:VCALENDAR