BEGIN:VCALENDAR
VERSION:2.0
PRODID:EVENTFROG//EVENT//ICAL
BEGIN:VEVENT
UID:20260423T020010Z-7452391177288948728@eventfrog.de
DTSTAMP:20260423T020010Z
DTSTART:20260622T150000Z
DTEND:20260622T190000Z
SUMMARY:AV-Labor
DESCRIPTION:Diesmal: Sounddesign in 3D mit Max/MSP mit Martin Recker\n\nhttps://eventfrog.de/de/p/kurse-seminare/computer-edv/av-labor-7452391177288948728.html
LOCATION:ZiMMT
GEO:51.348029;12.420404
URL:https://eventfrog.de/de/p/kurse-seminare/computer-edv/av-labor-7452391177288948728.html
END:VEVENT
END:VCALENDAR