BEGIN:VCALENDAR
VERSION:2.0
PRODID:EVENTFROG//EVENT//ICAL
BEGIN:VEVENT
UID:20260422T114243Z-7452402718633667135@eventfrog.de
DTSTAMP:20260422T114243Z
DTSTART:20260518T181500Z
DTEND:20260518T193000Z
SUMMARY:La Poesia – Kleinkunst für den Augenblick
DESCRIPTION:Künstler*innen verschiedener Sparten treffen sich bei La Poesia, um in wenigen Stunden eine einzigartige Show für 240 Gäste vorzubereiten. Kleine Kunst führt zu grossem Glück.\n\nhttps://eventfrog.de/de/p/musicals-shows/variete/la-poesia-kleinkunst-fuer-den-augenblick-7452402718633667135.html
LOCATION:MAAG Halle
GEO:47.386757;8.516673
URL:https://eventfrog.de/de/p/musicals-shows/variete/la-poesia-kleinkunst-fuer-den-augenblick-7452402718633667135.html
END:VEVENT
END:VCALENDAR