BEGIN:VCALENDAR
VERSION:2.0
PRODID:EVENTFROG//EVENT//ICAL
BEGIN:VEVENT
UID:20260422T113200Z-7452403467052669019@eventfrog.de
DTSTAMP:20260422T113200Z
DTSTART:20260516T170000Z
DTEND:20260516T215900Z
SUMMARY:Neu in der Stadt
DESCRIPTION:xaver / yosho / cuffa / waleed / janluka / dj point5ive\nHipHop aus Berlin - Butzemann - Produktionscamp Abschlusskonzert\n\nhttps://eventfrog.de/de/p/konzerte/hip-hop-rap/neu-in-der-stadt-7452403467052669019.html
LOCATION:SOKU
GEO:49.348842;8.152330
URL:https://eventfrog.de/de/p/konzerte/hip-hop-rap/neu-in-der-stadt-7452403467052669019.html
END:VEVENT
END:VCALENDAR