BEGIN:VCALENDAR
VERSION:2.0
PRODID:EVENTFROG//EVENT//ICAL
BEGIN:VEVENT
UID:20260421T230313Z-7452431301028626768@eventfrog.de
DTSTAMP:20260421T230313Z
DTSTART:20260426T100000Z
DTEND:20260426T170000Z
SUMMARY:Ölritual für Alle - eine tiefe körperliche Heilungsreise
DESCRIPTION:Das Ölritual für alle ist ein sinnlicher Raum frei von Sexualität, in dem du dich so richtig fallen lassen kannst. Du wirst tief und nachhaltig genährt, kommst in Körperkontakt zu anderen Menschen. \n\nhttps://eventfrog.de/de/p/gesundheit-spiritualitaet/spiritualitaet/oelritual-fuer-alle-eine-tiefe-koerperliche-heilungsreise-7452431301028626768.html
LOCATION:Laramie Ranch
GEO:50.901556;6.995761
URL:https://eventfrog.de/de/p/gesundheit-spiritualitaet/spiritualitaet/oelritual-fuer-alle-eine-tiefe-koerperliche-heilungsreise-7452431301028626768.html
END:VEVENT
END:VCALENDAR