BEGIN:VCALENDAR
VERSION:2.0
PRODID:EVENTFROG//EVENT//ICAL
BEGIN:VEVENT
UID:20260422T181523Z-7452483117233751124@eventfrog.de
DTSTAMP:20260422T181523Z
DTSTART:20260424T190000Z
SUMMARY:KARAOKE NIGHT
DESCRIPTION:Ab 21 Uhr lädt die The Spot Bar zur kostenlosen Karaoke Night mit freier Musikwahl und entspannter Atmosphäre ein.\n\nhttps://eventfrog.de/de/p/partys/karaoke/karaoke-night-7452483117233751124.html
LOCATION:The Spot Bar
GEO:47.379538;8.526002
URL:https://eventfrog.de/de/p/partys/karaoke/karaoke-night-7452483117233751124.html
END:VEVENT
END:VCALENDAR