BEGIN:VCALENDAR
VERSION:2.0
PRODID:EVENTFROG//EVENT//ICAL
BEGIN:VEVENT
UID:20260425T012719Z-7452622723279243688@eventfrog.de
DTSTAMP:20260425T012719Z
DTSTART:20260425T170000Z
DTEND:20260425T193000Z
SUMMARY:DU BESTIMMST..!
DESCRIPTION:Ein junger Mann, der eigentlich kein Vater werden wollte und doch einer wurde. Ein Stück über Erwartungen,  Wandel und das Abenteuer Familie. Humorvoll. Ehrlich. Mitten aus dem Leben.\n\nhttps://eventfrog.de/de/p/theater-buehne/theater/du-bestimmst-7452622723279243688.html
LOCATION:Tante Astrid
GEO:50.951782;6.903640
URL:https://eventfrog.de/de/p/theater-buehne/theater/du-bestimmst-7452622723279243688.html
END:VEVENT
END:VCALENDAR