BEGIN:VCALENDAR
VERSION:2.0
PRODID:EVENTFROG//EVENT//ICAL
BEGIN:VEVENT
UID:20260422T193911Z-7452631242317506520@eventfrog.de
DTSTAMP:20260422T193911Z
DTSTART:20270529T070000Z
DTEND:20270531T150000Z
SUMMARY:Philosophie & Geschichte - 25h-Yoga-Weiterbildung
DESCRIPTION:Vom 29. bis 31. Mai 2027 vertiefen Yogalehrende mit 200h-Ausbildung in 25 Stunden die Philosophie und Geschichte des Yoga.\n\nhttps://eventfrog.de/de/p/sport-fitness/yoga/philosophie-geschichte-25h-yoga-weiterbildung-7452631242317506520.html
LOCATION:Yoga Labor Berlin
GEO:52.462984;13.509339
URL:https://eventfrog.de/de/p/sport-fitness/yoga/philosophie-geschichte-25h-yoga-weiterbildung-7452631242317506520.html
END:VEVENT
END:VCALENDAR