BEGIN:VCALENDAR
VERSION:2.0
PRODID:EVENTFROG//EVENT//ICAL
BEGIN:VEVENT
UID:20260425T195458Z-7452644073091926146@eventfrog.de
DTSTAMP:20260425T195458Z
DTSTART:20261002T100000Z
DTEND:20261002T203000Z
SUMMARY:Dinner in the Sky Düsseldorf
DESCRIPTION:Dinner in the Sky serviert exklusive Gerichte in 50 m Höhe mit spektakulärem Panorama über Köln, Düsseldorf und Hamburg.\n\nhttps://eventfrog.de/de/p/essen-trinken/dinner-in-the-sky-duesseldorf-7452644073091926146.html
LOCATION:Hansaallee 313
GEO:51.244464;6.716604
URL:https://eventfrog.de/de/p/essen-trinken/dinner-in-the-sky-duesseldorf-7452644073091926146.html
END:VEVENT
END:VCALENDAR