BEGIN:VCALENDAR
VERSION:2.0
PRODID:EVENTFROG//EVENT//ICAL
BEGIN:VEVENT
UID:20260425T153454Z-7452651778732996337@eventfrog.de
DTSTAMP:20260425T153454Z
DTSTART:20260911T173000Z
DTEND:20260911T210000Z
SUMMARY:Vocal Champs - Open A-Cappella Abend-
DESCRIPTION:Eröffnungsabend, offener Kulturzugang, Einladung kostenfreie Eröffnungskonzerte, Open-A-Cappella-Night, Preisträgerkonzert\n\nhttps://eventfrog.de/de/p/konzerte/a-cappella-vocal/vocal-champs-open-a-cappella-abend-7452651778732996337.html
LOCATION:St. Martin Realschule Sendenhorst
GEO:51.845458;7.818247
URL:https://eventfrog.de/de/p/konzerte/a-cappella-vocal/vocal-champs-open-a-cappella-abend-7452651778732996337.html
END:VEVENT
END:VCALENDAR