BEGIN:VCALENDAR
VERSION:2.0
PRODID:EVENTFROG//EVENT//ICAL
BEGIN:VEVENT
UID:20260424T062108Z-7452653910563543595@eventfrog.de
DTSTAMP:20260424T062108Z
DTSTART:20260510T080000Z
DTEND:20260510T215900Z
SUMMARY:Muttertag im City Bowling
DESCRIPTION:Am 10.05.2026 ist Muttertag! \nFür alle Mütter: Gratis Leihschuhe • Für alle: Bowlinglimonade nur 3,90 \n\nhttps://eventfrog.de/de/p/freizeit-ausfluege/ausflug/muttertag-im-city-bowling-7452653910563543595.html
LOCATION:City Bowling Kassel
GEO:51.300036;9.477448
URL:https://eventfrog.de/de/p/freizeit-ausfluege/ausflug/muttertag-im-city-bowling-7452653910563543595.html
END:VEVENT
END:VCALENDAR