BEGIN:VCALENDAR
VERSION:2.0
PRODID:EVENTFROG//EVENT//ICAL
BEGIN:VEVENT
UID:20260424T062108Z-7452655404977262301@eventfrog.de
DTSTAMP:20260424T062108Z
DTSTART:20260525T080000Z
DTEND:20260525T215900Z
SUMMARY:Pfingstmontag im City Bowling
DESCRIPTION:Pfingstmontag: Bowling zum halben Preis\n\nhttps://eventfrog.de/de/p/freizeit-ausfluege/ausflug/pfingstmontag-im-city-bowling-7452655404977262301.html
LOCATION:City Bowling Kassel
GEO:51.300036;9.477448
URL:https://eventfrog.de/de/p/freizeit-ausfluege/ausflug/pfingstmontag-im-city-bowling-7452655404977262301.html
END:VEVENT
END:VCALENDAR