BEGIN:VCALENDAR
VERSION:2.0
PRODID:EVENTFROG//EVENT//ICAL
BEGIN:VEVENT
UID:20260422T231429Z-7452690065287811526@eventfrog.de
DTSTAMP:20260422T231429Z
DTSTART:20260430T110000Z
DTEND:20260430T150000Z
SUMMARY:Buntes Programm für Familien am 30.04.26 im Günthersburgpark
DESCRIPTION:Kinder und Familien erleben im Günthersburgpark von 13 bis 17 Uhr ein buntes Programm mit Spielen, Aktionen und Rap-Aufführungen.\n\nhttps://eventfrog.de/de/p/kinderveranstaltungen/familienveranstaltungen/buntes-programm-fuer-familien-am-30-04-26-im-guenthersburgpark-7452690065287811526.html
LOCATION:Günthersburgpark
GEO:50.129246;8.706402
URL:https://eventfrog.de/de/p/kinderveranstaltungen/familienveranstaltungen/buntes-programm-fuer-familien-am-30-04-26-im-guenthersburgpark-7452690065287811526.html
END:VEVENT
END:VCALENDAR