BEGIN:VCALENDAR
VERSION:2.0
PRODID:EVENTFROG//EVENT//ICAL
BEGIN:VEVENT
UID:20260422T224103Z-7452692745116741564@eventfrog.de
DTSTAMP:20260422T224103Z
DTSTART:20260605T183000Z
SUMMARY:Jin Jim live im NICA Jazz Club in Hamburg
DESCRIPTION:Jin Jim verbinden Latin, Jazz und Rock mit Flamenco- und Pop-Einflüssen zu innovativem, komplexem und harmonischem Klang.\n\nhttps://eventfrog.de/de/p/konzerte/jazz-blues/jin-jim-live-im-nica-jazz-club-in-hamburg-7452692745116741564.html
LOCATION:NICA JAZZ CLUB
GEO:53.550691;9.990837
URL:https://eventfrog.de/de/p/konzerte/jazz-blues/jin-jim-live-im-nica-jazz-club-in-hamburg-7452692745116741564.html
END:VEVENT
END:VCALENDAR