BEGIN:VCALENDAR
VERSION:2.0
PRODID:EVENTFROG//EVENT//ICAL
BEGIN:VEVENT
UID:20260422T224149Z-7452694423467502374@eventfrog.de
DTSTAMP:20260422T224149Z
DTSTART:20260430T080000Z
DTEND:20260430T130000Z
SUMMARY:Aktionstag Tag der Demokratie im Stadtpark Höchst
DESCRIPTION:Am 30.4.26 bietet das Quartier Höchst-Zeilsheim-Nied-Unterliederbach ab 10 Uhr im Stadtpark Höchst kreative Stände, Musik und Aktionen zur Demokratie.\n\nhttps://eventfrog.de/de/p/freizeit-ausfluege/info-event/aktionstag-tag-der-demokratie-im-stadtpark-hoechst-7452694423467502374.html
LOCATION:Höchster Stadtpark
GEO:50.109826;8.555598
URL:https://eventfrog.de/de/p/freizeit-ausfluege/info-event/aktionstag-tag-der-demokratie-im-stadtpark-hoechst-7452694423467502374.html
END:VEVENT
END:VCALENDAR