BEGIN:VCALENDAR
VERSION:2.0
PRODID:EVENTFROG//EVENT//ICAL
BEGIN:VEVENT
UID:20260422T231317Z-7452701491847013822@eventfrog.de
DTSTAMP:20260422T231317Z
DTSTART:20260430T090000Z
DTEND:20260430T120000Z
SUMMARY:Aktionstag Tag der Demokratie Alter Flugplatz Bonames
DESCRIPTION:Am 30.4.26 ab 11:00 Uhr bietet das Quartier Bonames-Kalbach-Riedberg-Ginnheim auf dem Alten Flugplatz Bonames Spiele, Quiz, Picknick und kreative Mitmachangebote für alle.\n\nhttps://eventfrog.de/de/p/kinderveranstaltungen/familienveranstaltungen/aktionstag-tag-der-demokratie-alter-flugplatz-bonames-7452701491847013822.html
LOCATION:Alter Flugplatz
GEO:50.177779;8.659651
URL:https://eventfrog.de/de/p/kinderveranstaltungen/familienveranstaltungen/aktionstag-tag-der-demokratie-alter-flugplatz-bonames-7452701491847013822.html
END:VEVENT
END:VCALENDAR