BEGIN:VCALENDAR
VERSION:2.0
PRODID:EVENTFROG//EVENT//ICAL
BEGIN:VEVENT
UID:20260422T210551Z-7452704518217678111@eventfrog.de
DTSTAMP:20260422T210551Z
DTSTART:20260919T170000Z
DTEND:20260919T200000Z
SUMMARY:Mamma Mia (ABBA) Mitsing-Party – Hits, DJ & 70s-Feeling!
DESCRIPTION:Erlebe bei der Mamma Mia Mitsing-Party die größten ABBA-Hits mit Live-DJ und interaktiver Stimmung im 70er-Jahre-Style.\n\nhttps://eventfrog.de/de/p/partys/70-s/mamma-mia-abba-mitsing-party-hits-dj-70s-feeling-7452704518217678111.html
LOCATION:Schuppen 2 Eventloft
GEO:53.088455;8.773160
URL:https://eventfrog.de/de/p/partys/70-s/mamma-mia-abba-mitsing-party-hits-dj-70s-feeling-7452704518217678111.html
END:VEVENT
END:VCALENDAR