BEGIN:VCALENDAR
VERSION:2.0
PRODID:EVENTFROG//EVENT//ICAL
BEGIN:VEVENT
UID:20260422T210601Z-7452709641539037651@eventfrog.de
DTSTAMP:20260422T210601Z
DTSTART:20261128T183000Z
DTEND:20261128T213000Z
SUMMARY:Mamma Mia (ABBA) Mitsing-Party – Hits, DJ & 70s-Feeling!
DESCRIPTION:Erlebe bei der Mamma Mia Mitsing-Party die größten ABBA-Hits mit Live-DJ und interaktiver Stimmung im 70er-Jahre-Style.\n\nhttps://eventfrog.de/de/p/partys/70-s/mamma-mia-abba-mitsing-party-hits-dj-70s-feeling-7452709641539037651.html
LOCATION:RESI Club Nürnberg
GEO:49.446291;11.080852
URL:https://eventfrog.de/de/p/partys/70-s/mamma-mia-abba-mitsing-party-hits-dj-70s-feeling-7452709641539037651.html
END:VEVENT
END:VCALENDAR