BEGIN:VCALENDAR
VERSION:2.0
PRODID:EVENTFROG//EVENT//ICAL
BEGIN:VEVENT
UID:20260423T052140Z-7452715951898773020@eventfrog.de
DTSTAMP:20260423T052140Z
DTSTART:20260620T180000Z
DTEND:20260620T200000Z
SUMMARY:Diebe im Olymp: Das Percy Jackson Musical
DESCRIPTION:Die Hochschulgruppe aMusical präsentiert "Diebe im Olymp: Das Percy Jackson Musical".\n\nhttps://eventfrog.de/de/p/musicals-shows/musical/diebe-im-olymp-das-percy-jackson-musical-7452715951898773020.html
LOCATION:Friedenskirche
GEO:48.567512;13.436331
URL:https://eventfrog.de/de/p/musicals-shows/musical/diebe-im-olymp-das-percy-jackson-musical-7452715951898773020.html
END:VEVENT
END:VCALENDAR