BEGIN:VCALENDAR
VERSION:2.0
PRODID:EVENTFROG//EVENT//ICAL
BEGIN:VEVENT
UID:20260425T164416Z-7452746170953127471@eventfrog.de
DTSTAMP:20260425T164416Z
DTSTART:20260530T130000Z
SUMMARY:24H Stelle - EDEKA Kröger Open Air mit Mick J. Pash und Band
DESCRIPTION:Ab 15 Uhr spielt Mick J. Pash mit seiner Band Live auf dem Edeka Kröger Parkplatz in Stelle mit Essen und Drinks.\n\nhttps://eventfrog.de/de/p/konzerte/pop-rock/24h-stelle-edeka-kroeger-open-air-mit-mick-j-pash-und-band-7452746170953127471.html
LOCATION:Edeka Kröger
GEO:53.385130;10.105944
URL:https://eventfrog.de/de/p/konzerte/pop-rock/24h-stelle-edeka-kroeger-open-air-mit-mick-j-pash-und-band-7452746170953127471.html
END:VEVENT
END:VCALENDAR