BEGIN:VCALENDAR
VERSION:2.0
PRODID:EVENTFROG//EVENT//ICAL
BEGIN:VEVENT
UID:20260425T164334Z-7452808966684333471@eventfrog.de
DTSTAMP:20260425T164334Z
DTSTART:20260516T180000Z
DTEND:20260516T200000Z
SUMMARY:Silent Night - Berlin's first No Words Cabaret !
DESCRIPTION:An extraordinary cabaret with versatile performances including Mime, Physical theater, Clown, Puppetry, Drag and much more\n\nhttps://eventfrog.de/en/p/theatre-stage/comedy-cabaret/silent-night-berlin-s-first-no-words-cabaret-7452808966684333471.html
LOCATION:Theater pool
GEO:52.513336;13.455578
URL:https://eventfrog.de/en/p/theatre-stage/comedy-cabaret/silent-night-berlin-s-first-no-words-cabaret-7452808966684333471.html
END:VEVENT
END:VCALENDAR