BEGIN:VCALENDAR
VERSION:2.0
PRODID:EVENTFROG//EVENT//ICAL
BEGIN:VEVENT
UID:20260424T014013Z-7452821129398364358@eventfrog.de
DTSTAMP:20260424T014013Z
DTSTART:20260517T160000Z
DTEND:20260517T180000Z
SUMMARY:ChordaCordis
DESCRIPTION:Als ChordaCordis laden Sara Maria Fantini (FR) und Colin Heller (IT) zu einem Streifzug durch europäisches Liedgut von der Renaissance bis heute ein.\n\nhttps://eventfrog.de/de/p/konzerte/world-ethno/chordacordis-7452821129398364358.html
LOCATION:kulturo Rümmingen
GEO:47.641104;7.646999
URL:https://eventfrog.de/de/p/konzerte/world-ethno/chordacordis-7452821129398364358.html
END:VEVENT
END:VCALENDAR