BEGIN:VCALENDAR
VERSION:2.0
PRODID:EVENTFROG//EVENT//ICAL
BEGIN:VEVENT
UID:20260424T093153Z-7452965167652930258@eventfrog.de
DTSTAMP:20260424T093153Z
DTSTART:20260914T160000Z
SUMMARY:Zukunft der Rente
DESCRIPTION:Zukunft der Rente - Eine öffentliche Veranstaltung der Klasse für Ingenieur- und Wirtschaftswissenschaften.\n\nhttps://eventfrog.de/de/p/fuehrungen-vortraege/vortrag/zukunft-der-rente-7452965167652930258.html
LOCATION:Nordrhein-Westfälische Akademie der Wissenschaften und der Künste
GEO:51.209491;6.771480
URL:https://eventfrog.de/de/p/fuehrungen-vortraege/vortrag/zukunft-der-rente-7452965167652930258.html
END:VEVENT
END:VCALENDAR