BEGIN:VCALENDAR
VERSION:2.0
PRODID:EVENTFROG//EVENT//ICAL
BEGIN:VEVENT
UID:20260424T132908Z-7452996687830754544@eventfrog.de
DTSTAMP:20260424T132908Z
DTSTART:20261007T160000Z
DTEND:20261007T200000Z
SUMMARY:KEVIN JAMES & SUSANA - Mantra-Singkreis - Live in München
DESCRIPTION:Chanting Circle of Mantras & Heartsongs mit Kevin James & Susana. Der Mantra Singkreis live in München am 07. Okt. 2026 in der Roten Fabrik.\n\nhttps://eventfrog.de/de/p/konzerte/singer-songwriter/kevin-james-susana-mantra-singkreis-live-in-muenchen-7452996687830754544.html
LOCATION:Rote Fabrik
GEO:48.141218;11.425731
URL:https://eventfrog.de/de/p/konzerte/singer-songwriter/kevin-james-susana-mantra-singkreis-live-in-muenchen-7452996687830754544.html
END:VEVENT
END:VCALENDAR