BEGIN:VCALENDAR
VERSION:2.0
PRODID:EVENTFROG//EVENT//ICAL
BEGIN:VEVENT
UID:20260425T142559Z-7453008617492466100@eventfrog.de
DTSTAMP:20260425T142559Z
DTSTART:20260705T073000Z
DTEND:20260705T103000Z
SUMMARY:YIN & BREATH – Dein Reset für Körper und Nervensystem
DESCRIPTION:In diesem Special aus Yin Yoga und Breathwork tauchst du ein in einen Raum aus Stille, Tiefe und bewusster Verkörperung.\n\nhttps://eventfrog.de/de/p/gesundheit-spiritualitaet/gesundheit-wohlbefinden/yin-breath-dein-reset-fuer-koerper-und-nervensystem-7453008617492466100.html
LOCATION:Kleine Amalie
GEO:53.138820;8.220037
URL:https://eventfrog.de/de/p/gesundheit-spiritualitaet/gesundheit-wohlbefinden/yin-breath-dein-reset-fuer-koerper-und-nervensystem-7453008617492466100.html
END:VEVENT
END:VCALENDAR