BEGIN:VCALENDAR
VERSION:2.0
PRODID:EVENTFROG//EVENT//ICAL
BEGIN:VEVENT
UID:20260424T110751Z-7453011238253009064@eventfrog.de
DTSTAMP:20260424T110751Z
DTSTART:20260428T164500Z
DTEND:20260428T174500Z
SUMMARY:Ballett-Fitness
DESCRIPTION:Der Einsteigerkurs kombiniert klassische Ballettübungen mit Ganzkörpertraining zur Verbesserung von Haltung, Kraft und Beweglichkeit.\n\nhttps://eventfrog.de/de/p/sport-fitness/tanzsport/ballett-fitness-7453011238253009064.html
LOCATION:Ballettschule Alexandra
GEO:49.459843;11.102499
URL:https://eventfrog.de/de/p/sport-fitness/tanzsport/ballett-fitness-7453011238253009064.html
END:VEVENT
END:VCALENDAR