BEGIN:VCALENDAR
VERSION:2.0
PRODID:EVENTFROG//EVENT//ICAL
BEGIN:VEVENT
UID:20260426T015023Z-7453023975121135549@eventfrog.de
DTSTAMP:20260426T015023Z
DTSTART:20261016T220000Z
DTEND:20270703T220000Z
SUMMARY:200h Hatha & Vinyasa Yoga Ausbildung
DESCRIPTION:Die 10-monatige Yoga-Ausbildung im Yoga Labor Berlin vermittelt Hatha & Vinyasa, Praxis und Philosophie, vor Ort oder online.\n\nhttps://eventfrog.de/de/p/sport-fitness/yoga/200h-hatha-vinyasa-yoga-ausbildung-7453023975121135549.html
LOCATION:Yoga Labor Berlin
GEO:52.462984;13.509339
URL:https://eventfrog.de/de/p/sport-fitness/yoga/200h-hatha-vinyasa-yoga-ausbildung-7453023975121135549.html
END:VEVENT
END:VCALENDAR