BEGIN:VCALENDAR
VERSION:2.0
PRODID:EVENTFROG//EVENT//ICAL
BEGIN:VEVENT
UID:20260425T203352Z-7453070563533175364@eventfrog.de
DTSTAMP:20260425T203352Z
DTSTART:20260430T180000Z
DTEND:20260430T210000Z
SUMMARY:Kara - Saal1, Küchlin - BASEL
DESCRIPTION:Kara - Tamil \n\nhttps://eventfrog.de/de/p/theater-buehne/theater/kara-saal1-kuechlin-basel-7453070563533175364.html
LOCATION:Saal1 Küchlin
GEO:47.552455;7.588402
URL:https://eventfrog.de/de/p/theater-buehne/theater/kara-saal1-kuechlin-basel-7453070563533175364.html
END:VEVENT
END:VCALENDAR