BEGIN:VCALENDAR
VERSION:2.0
PRODID:EVENTFROG//EVENT//ICAL
BEGIN:VEVENT
UID:20260424T101627Z-7453114692766072507@eventfrog.de
DTSTAMP:20260424T101627Z
DTSTART:20260705T160000Z
DTEND:20260705T200000Z
SUMMARY:Querbeet - Kultur im Gewächshaus
DESCRIPTION:Querbeet - Kultur im Gewächshaus - ein inspirierender Abend voller Musik, Theater und Überraschungen in einer außergewöhnlichen Atmosphäre.\n\n\nhttps://eventfrog.de/de/p/konzerte/weitere-musikrichtungen/querbeet-kultur-im-gewaechshaus-7453114692766072507.html
LOCATION:Blumen Renner
GEO:47.557648;7.776118
URL:https://eventfrog.de/de/p/konzerte/weitere-musikrichtungen/querbeet-kultur-im-gewaechshaus-7453114692766072507.html
END:VEVENT
END:VCALENDAR