BEGIN:VCALENDAR
VERSION:2.0
PRODID:EVENTFROG//EVENT//ICAL
BEGIN:VEVENT
UID:20260426T012747Z-7453165756949250244@eventfrog.de
DTSTAMP:20260426T012747Z
DTSTART:20260927T140000Z
DTEND:20260927T160000Z
SUMMARY:„Versprechen des Neuen“
DESCRIPTION:„Versprechen des Neuen“\n\nhttps://eventfrog.de/de/p/klassik-opern/klassik/versprechen-des-neuen-7453165756949250244.html
LOCATION:Kanonenhof
GEO:51.052046;13.745402
URL:https://eventfrog.de/de/p/klassik-opern/klassik/versprechen-des-neuen-7453165756949250244.html
END:VEVENT
END:VCALENDAR