BEGIN:VCALENDAR
VERSION:2.0
PRODID:EVENTFROG//EVENT//ICAL
BEGIN:VEVENT
UID:20260424T094159Z-7453200338012656539@eventfrog.de
DTSTAMP:20260424T094159Z
DTSTART:20260426T090000Z
SUMMARY:Weisheit und Mitgefühl im Buddhismus - Vortrag
DESCRIPTION:Bea Amar und Meike Martins Pereira erläutern Buddha's Weg zu Weisheit und Mitgefühl, um einen bleibenden Nutzen für alle zu schaffen. Danach kurze angeleitete Meditation. Eintritt 7 Euro. \n\nhttps://eventfrog.de/de/p/fuehrungen-vortraege/vortrag/weisheit-und-mitgefuehl-im-buddhismus-vortrag-7453200338012656539.html
LOCATION:Buddhistisches Zentrum Bremen
GEO:53.084831;8.826065
URL:https://eventfrog.de/de/p/fuehrungen-vortraege/vortrag/weisheit-und-mitgefuehl-im-buddhismus-vortrag-7453200338012656539.html
END:VEVENT
END:VCALENDAR