BEGIN:VCALENDAR
VERSION:2.0
PRODID:EVENTFROG//EVENT//ICAL
BEGIN:VEVENT
UID:20260424T233910Z-7453402125474735101@eventfrog.de
DTSTAMP:20260424T233910Z
DTSTART:20260613T120000Z
DTEND:20260613T140000Z
SUMMARY:Come from away
DESCRIPTION:Ein Musical über Menschlichkeit im Ausnahmezustand und die wahren Begegnungen, die daraus entstanden. Einakter ohne Pause, mit Liveband.\n\nhttps://eventfrog.de/de/p/musicals-shows/musical/come-from-away-7453402125474735101.html
LOCATION:Centre Francais de Berlin
GEO:52.558430;13.339050
URL:https://eventfrog.de/de/p/musicals-shows/musical/come-from-away-7453402125474735101.html
END:VEVENT
END:VCALENDAR